BEGIN:VCALENDAR
VERSION:2.0
PRODID:-//Sok-Ho Trinh - ECPv6.0.1.1//NONSGML v1.0//EN
CALSCALE:GREGORIAN
METHOD:PUBLISH
X-ORIGINAL-URL:https://work.sokhotrinh.com
X-WR-CALDESC:Events for Sok-Ho Trinh
REFRESH-INTERVAL;VALUE=DURATION:PT1H
X-Robots-Tag:noindex
X-PUBLISHED-TTL:PT1H
BEGIN:VTIMEZONE
TZID:UTC
BEGIN:STANDARD
TZOFFSETFROM:+0000
TZOFFSETTO:+0000
TZNAME:UTC
DTSTART:20180101T000000
END:STANDARD
END:VTIMEZONE
BEGIN:VEVENT
DTSTART;TZID=UTC:20201105T090000
DTEND;TZID=UTC:20201106T170000
DTSTAMP:20260423T102557
CREATED:20200413T233636Z
LAST-MODIFIED:20200414T000214Z
UID:1525-1604566800-1604682000@work.sokhotrinh.com
SUMMARY:3rd Positive Psychology in Practice Conference
DESCRIPTION:3rd Positive Psychology in Practice Conference 5th to 6th November 2020 in Paris
URL:https://work.sokhotrinh.com/event/3rd-positive-psychology-in-practice-conference
CATEGORIES:Coaching
ATTACH;FMTTYPE=image/png:https://work.sokhotrinh.com/wp-content/uploads/2020/04/3rd-positive-psychology-practice-conference.png
END:VEVENT
BEGIN:VEVENT
DTSTART;TZID=UTC:20200917T080000
DTEND;TZID=UTC:20200917T170000
DTSTAMP:20260423T102557
CREATED:20200413T232935Z
LAST-MODIFIED:20200414T000412Z
UID:1510-1600329600-1600362000@work.sokhotrinh.com
SUMMARY:Passion\, Leadership and Social impact conference
DESCRIPTION:Passion\, Leadership and Social impact conference 17th September 2020 in Paris
URL:https://work.sokhotrinh.com/event/passion-leadership-and-social-impact-conference
CATEGORIES:Coaching
ATTACH;FMTTYPE=image/png:https://work.sokhotrinh.com/wp-content/uploads/2020/04/Knowledge-Dock.png
END:VEVENT
BEGIN:VEVENT
DTSTART;TZID=UTC:20200310T020000
DTEND;TZID=UTC:20200310T030000
DTSTAMP:20260423T102557
CREATED:20200413T235459Z
LAST-MODIFIED:20200414T000539Z
UID:1535-1583805600-1583809200@work.sokhotrinh.com
SUMMARY:Heartful dodgers\, Lewisham Cardia support group
DESCRIPTION:Heartful dodgers\, Lewisham Cardia Support Group
URL:https://work.sokhotrinh.com/event/heartful-dodgers-lewisham-cardia-support-group
ATTACH;FMTTYPE=image/png:https://work.sokhotrinh.com/wp-content/uploads/2020/04/artful-dodgers.png
END:VEVENT
BEGIN:VEVENT
DTSTART;TZID=UTC:20191111T210000
DTEND;TZID=UTC:20191115T170000
DTSTAMP:20260423T102557
CREATED:20200413T235908Z
LAST-MODIFIED:20200413T235924Z
UID:1539-1573506000-1573837200@work.sokhotrinh.com
SUMMARY:Happiness at Work summit
DESCRIPTION:Happiness at Work summit\, 11-15th Nov. 2019
URL:https://work.sokhotrinh.com/event/happiness-at-work-summit
CATEGORIES:Coaching
ATTACH;FMTTYPE=image/png:https://work.sokhotrinh.com/wp-content/uploads/2020/04/happiness-at-work.png
END:VEVENT
BEGIN:VEVENT
DTSTART;TZID=UTC:20191020T180000
DTEND;TZID=UTC:20191020T210000
DTSTAMP:20260423T102557
CREATED:20200414T000157Z
LAST-MODIFIED:20200414T000606Z
UID:1541-1571594400-1571605200@work.sokhotrinh.com
SUMMARY:Big Byte talk on Passion at Work
DESCRIPTION:Big Byte talk on Passion at Work\, 20th September 2019
URL:https://work.sokhotrinh.com/event/big-byte-talk-on-passion-at-work
ATTACH;FMTTYPE=image/png:https://work.sokhotrinh.com/wp-content/uploads/2020/04/Big-byte.png
END:VEVENT
BEGIN:VEVENT
DTSTART;TZID=UTC:20190627T090000
DTEND;TZID=UTC:20190627T170000
DTSTAMP:20260423T102557
CREATED:20200414T000923Z
LAST-MODIFIED:20200414T000924Z
UID:1549-1561626000-1561654800@work.sokhotrinh.com
SUMMARY:Research & Knowledge Exchange Conference
DESCRIPTION:Research & Knowledge Exchange Conference\, 27th June 2019 
URL:https://work.sokhotrinh.com/event/research-knowledge-exchange-conference
CATEGORIES:Coaching
ATTACH;FMTTYPE=image/png:https://work.sokhotrinh.com/wp-content/uploads/2020/04/Research-Knowledge-Exchange-Conference.png
END:VEVENT
BEGIN:VEVENT
DTSTART;TZID=UTC:20180615T090000
DTEND;TZID=UTC:20180615T170000
DTSTAMP:20260423T102557
CREATED:20200414T001325Z
LAST-MODIFIED:20200414T001356Z
UID:1553-1529053200-1529082000@work.sokhotrinh.com
SUMMARY:Festival of Passion\, 15th June 2018
DESCRIPTION:Festival of Passion\, 15th June 2018
URL:https://work.sokhotrinh.com/event/festival-of-passion-15th-june-2018
CATEGORIES:Coaching
ATTACH;FMTTYPE=image/png:https://work.sokhotrinh.com/wp-content/uploads/2020/04/Festival-of-passion-2018.png
END:VEVENT
BEGIN:VEVENT
DTSTART;TZID=UTC:20180426T080000
DTEND;TZID=UTC:20180426T170000
DTSTAMP:20260423T102557
CREATED:20200414T001105Z
LAST-MODIFIED:20200415T232847Z
UID:1551-1524729600-1524762000@work.sokhotrinh.com
SUMMARY:Positive Psychology in Practice 2018
DESCRIPTION:Positive Psychology in Practice 26th April 2018\, Danubius Hotel\, Regents Park London 
URL:https://work.sokhotrinh.com/event/positive-psychology-in-practice-2018
CATEGORIES:Coaching
ATTACH;FMTTYPE=image/png:https://work.sokhotrinh.com/wp-content/uploads/2020/04/positive-psychology-in-practice.png
END:VEVENT
END:VCALENDAR